Package: HiCBricks Version: 1.26.0 Command: /home/biocbuild/R/R/bin/R CMD INSTALL HiCBricks StartedAt: 2025-10-13 20:27:34 -0000 (Mon, 13 Oct 2025) EndedAt: 2025-10-13 20:27:58 -0000 (Mon, 13 Oct 2025) EllapsedTime: 24.4 seconds RetCode: 0 Status: OK