Package: HelloRanges Version: 1.34.0 Command: /home/biocbuild/bbs-3.21-bioc/R/bin/R CMD build --keep-empty-dirs --no-resave-data HelloRanges StartedAt: 2025-10-15 17:56:33 -0400 (Wed, 15 Oct 2025) EndedAt: 2025-10-15 18:00:15 -0400 (Wed, 15 Oct 2025) EllapsedTime: 222.2 seconds RetCode: 0 Status: OK PackageFile: HelloRanges_1.34.0.tar.gz PackageFileSize: 951.3 KiB