Package: HelloRanges Version: 1.34.0 Command: /Library/Frameworks/R.framework/Resources/bin/R CMD INSTALL HelloRanges StartedAt: 2025-10-13 16:12:17 -0400 (Mon, 13 Oct 2025) EndedAt: 2025-10-13 16:13:42 -0400 (Mon, 13 Oct 2025) EllapsedTime: 85.3 seconds RetCode: 0 Status: OK