Package: HelloRanges Version: 1.34.0 Command: /Library/Frameworks/R.framework/Resources/bin/R CMD build --keep-empty-dirs --no-resave-data HelloRanges StartedAt: 2025-10-13 19:41:00 -0400 (Mon, 13 Oct 2025) EndedAt: 2025-10-13 19:49:05 -0400 (Mon, 13 Oct 2025) EllapsedTime: 485.4 seconds RetCode: 0 Status: OK PackageFile: HelloRanges_1.34.0.tar.gz PackageFileSize: 950 KiB