Package: HelloRanges Version: 1.34.0 Command: /Library/Frameworks/R.framework/Resources/bin/R CMD build --keep-empty-dirs --no-resave-data HelloRanges StartedAt: 2025-10-14 02:08:06 -0400 (Tue, 14 Oct 2025) EndedAt: 2025-10-14 02:13:14 -0400 (Tue, 14 Oct 2025) EllapsedTime: 307.8 seconds RetCode: 0 Status: OK PackageFile: HelloRanges_1.34.0.tar.gz PackageFileSize: 951.5 KiB