Package: Harshlight Version: 1.80.0 Command: /home/biocbuild/R/R/bin/R CMD build --keep-empty-dirs --no-resave-data Harshlight StartedAt: 2025-10-14 01:34:02 -0000 (Tue, 14 Oct 2025) EndedAt: 2025-10-14 01:34:03 -0000 (Tue, 14 Oct 2025) EllapsedTime: 1.0 seconds RetCode: 1 Status: ERROR PackageFile: None PackageFileSize: NA