Package: HTqPCR Version: 1.62.0 Command: /Library/Frameworks/R.framework/Resources/bin/R CMD INSTALL HTqPCR StartedAt: 2025-10-13 15:27:10 -0400 (Mon, 13 Oct 2025) EndedAt: 2025-10-13 15:27:20 -0400 (Mon, 13 Oct 2025) EllapsedTime: 10.8 seconds RetCode: 0 Status: OK