Package: HTqPCR Version: 1.62.0 Command: /home/biocbuild/R/R/bin/R CMD INSTALL HTqPCR StartedAt: 2025-10-13 20:26:41 -0000 (Mon, 13 Oct 2025) EndedAt: 2025-10-13 20:26:54 -0000 (Mon, 13 Oct 2025) EllapsedTime: 13.0 seconds RetCode: 0 Status: OK