Package: HTqPCR Version: 1.62.0 Command: /Library/Frameworks/R.framework/Resources/bin/R CMD INSTALL HTqPCR StartedAt: 2025-10-13 18:37:05 -0400 (Mon, 13 Oct 2025) EndedAt: 2025-10-13 18:37:13 -0400 (Mon, 13 Oct 2025) EllapsedTime: 8.1 seconds RetCode: 0 Status: OK