Package: HTqPCR Version: 1.62.0 Command: /Library/Frameworks/R.framework/Resources/bin/R CMD build --keep-empty-dirs --no-resave-data HTqPCR StartedAt: 2025-10-14 02:25:06 -0400 (Tue, 14 Oct 2025) EndedAt: 2025-10-14 02:25:31 -0400 (Tue, 14 Oct 2025) EllapsedTime: 24.9 seconds RetCode: 0 Status: OK PackageFile: HTqPCR_1.62.0.tar.gz PackageFileSize: 2.58 MiB