Package: HELP Version: 1.66.0 Command: /Library/Frameworks/R.framework/Resources/bin/R CMD build --keep-empty-dirs --no-resave-data HELP StartedAt: 2025-10-14 02:08:16 -0400 (Tue, 14 Oct 2025) EndedAt: 2025-10-14 02:08:37 -0400 (Tue, 14 Oct 2025) EllapsedTime: 20.3 seconds RetCode: 0 Status: OK PackageFile: HELP_1.66.0.tar.gz PackageFileSize: 996.7 KiB