Package: HDF5Array Version: 1.36.0 Command: /home/biocbuild/bbs-3.21-bioc/R/bin/R CMD check --install=check:HDF5Array.install-out.txt --library=/home/biocbuild/bbs-3.21-bioc/R/site-library --timings HDF5Array_1.36.0.tar.gz StartedAt: 2025-10-15 23:59:55 -0400 (Wed, 15 Oct 2025) EndedAt: 2025-10-16 00:16:48 -0400 (Thu, 16 Oct 2025) EllapsedTime: 1012.5 seconds RetCode: 0 Status: OK CheckDir: HDF5Array.Rcheck Warnings: 0