Package: HDF5Array Version: 1.36.0 Command: /Library/Frameworks/R.framework/Resources/bin/R CMD INSTALL HDF5Array StartedAt: 2025-10-13 16:03:35 -0400 (Mon, 13 Oct 2025) EndedAt: 2025-10-13 16:04:24 -0400 (Mon, 13 Oct 2025) EllapsedTime: 48.9 seconds RetCode: 0 Status: OK