Package: HDF5Array Version: 1.36.0 Command: /Library/Frameworks/R.framework/Resources/bin/R CMD build --keep-empty-dirs --no-resave-data HDF5Array StartedAt: 2025-10-13 19:39:48 -0400 (Mon, 13 Oct 2025) EndedAt: 2025-10-13 20:04:35 -0400 (Mon, 13 Oct 2025) EllapsedTime: 1487.5 seconds RetCode: 0 Status: OK PackageFile: HDF5Array_1.36.0.tar.gz PackageFileSize: 7.968 MiB