Package: HDF5Array Version: 1.36.0 Command: /home/biocbuild/R/R/bin/R CMD INSTALL HDF5Array StartedAt: 2025-10-13 20:50:21 -0000 (Mon, 13 Oct 2025) EndedAt: 2025-10-13 20:50:53 -0000 (Mon, 13 Oct 2025) EllapsedTime: 31.8 seconds RetCode: 0 Status: OK