Package: HDF5Array Version: 1.36.0 Command: /Library/Frameworks/R.framework/Resources/bin/R CMD INSTALL HDF5Array StartedAt: 2025-10-13 15:58:05 -0400 (Mon, 13 Oct 2025) EndedAt: 2025-10-13 15:58:30 -0400 (Mon, 13 Oct 2025) EllapsedTime: 24.9 seconds RetCode: 0 Status: OK