Package: HDF5Array Version: 1.36.0 Command: /Library/Frameworks/R.framework/Resources/bin/R CMD build --keep-empty-dirs --no-resave-data HDF5Array StartedAt: 2025-10-14 02:04:23 -0400 (Tue, 14 Oct 2025) EndedAt: 2025-10-14 02:22:49 -0400 (Tue, 14 Oct 2025) EllapsedTime: 1106.8 seconds RetCode: 0 Status: OK PackageFile: HDF5Array_1.36.0.tar.gz PackageFileSize: 7.968 MiB