Package: HDF5Array Version: 1.36.0 Command: rm -rf HDF5Array.buildbin-libdir && mkdir HDF5Array.buildbin-libdir && /Users/biocbuild/BBS/utils/build-universal.sh HDF5Array_1.36.0.tar.gz /Library/Frameworks/R.framework/Resources/bin/R HDF5Array.buildbin-libdir StartedAt: 2025-10-15 18:50:03 -0400 (Wed, 15 Oct 2025) EndedAt: 2025-10-15 18:50:32 -0400 (Wed, 15 Oct 2025) EllapsedTime: 29.5 seconds RetCode: 0 Status: OK PackageFile: HDF5Array_1.36.0.tgz PackageFileSize: 8.586 MiB