Package: GreyListChIP Version: 1.40.0 Command: /home/biocbuild/R/R/bin/R CMD build --keep-empty-dirs --no-resave-data GreyListChIP StartedAt: 2025-10-14 01:28:34 -0000 (Tue, 14 Oct 2025) EndedAt: 2025-10-14 01:29:42 -0000 (Tue, 14 Oct 2025) EllapsedTime: 68.0 seconds RetCode: 0 Status: OK PackageFile: GreyListChIP_1.40.0.tar.gz PackageFileSize: 334.8 KiB