Package: GraphPAC Version: 1.50.0 Command: /Library/Frameworks/R.framework/Resources/bin/R CMD build --keep-empty-dirs --no-resave-data GraphPAC StartedAt: 2025-10-13 19:31:43 -0400 (Mon, 13 Oct 2025) EndedAt: 2025-10-13 19:35:55 -0400 (Mon, 13 Oct 2025) EllapsedTime: 251.3 seconds RetCode: 0 Status: OK PackageFile: GraphPAC_1.50.0.tar.gz PackageFileSize: 706 KiB