Package: GraphAlignment Version: 1.72.0 Command: /home/biocbuild/bbs-3.21-bioc/R/bin/R CMD INSTALL GraphAlignment StartedAt: 2025-10-15 15:06:56 -0400 (Wed, 15 Oct 2025) EndedAt: 2025-10-15 15:07:15 -0400 (Wed, 15 Oct 2025) EllapsedTime: 18.9 seconds RetCode: 0 Status: OK