Package: GraphAlignment Version: 1.72.0 Command: /Library/Frameworks/R.framework/Resources/bin/R CMD INSTALL GraphAlignment StartedAt: 2025-10-13 15:13:42 -0400 (Mon, 13 Oct 2025) EndedAt: 2025-10-13 15:14:13 -0400 (Mon, 13 Oct 2025) EllapsedTime: 31.5 seconds RetCode: 0 Status: OK