Package: GraphAlignment Version: 1.72.0 Command: /Library/Frameworks/R.framework/Resources/bin/R CMD check --install=check:GraphAlignment.install-out.txt --library=/Library/Frameworks/R.framework/Resources/library --no-vignettes --timings GraphAlignment_1.72.0.tar.gz StartedAt: 2025-10-14 04:46:49 -0400 (Tue, 14 Oct 2025) EndedAt: 2025-10-14 04:47:35 -0400 (Tue, 14 Oct 2025) EllapsedTime: 45.2 seconds RetCode: 0 Status: OK CheckDir: GraphAlignment.Rcheck Warnings: 0