Package: GraphAlignment Version: 1.72.0 Command: rm -rf GraphAlignment.buildbin-libdir && mkdir GraphAlignment.buildbin-libdir && /Users/biocbuild/BBS/utils/build-universal.sh GraphAlignment_1.72.0.tar.gz /Library/Frameworks/R.framework/Resources/bin/R GraphAlignment.buildbin-libdir StartedAt: 2025-10-14 13:39:05 -0400 (Tue, 14 Oct 2025) EndedAt: 2025-10-14 13:39:18 -0400 (Tue, 14 Oct 2025) EllapsedTime: 12.6 seconds RetCode: 0 Status: OK PackageFile: GraphAlignment_1.72.0.tgz PackageFileSize: 574.1 KiB