Package: GraphAlignment Version: 1.72.0 Command: /Library/Frameworks/R.framework/Resources/bin/R CMD INSTALL GraphAlignment StartedAt: 2025-10-13 15:20:10 -0400 (Mon, 13 Oct 2025) EndedAt: 2025-10-13 15:20:32 -0400 (Mon, 13 Oct 2025) EllapsedTime: 21.5 seconds RetCode: 0 Status: OK