Package: GraphAlignment Version: 1.72.0 Command: /Library/Frameworks/R.framework/Resources/bin/R CMD check --install=check:GraphAlignment.install-out.txt --library=/Library/Frameworks/R.framework/Resources/library --no-vignettes --timings GraphAlignment_1.72.0.tar.gz StartedAt: 2025-10-14 23:47:34 -0400 (Tue, 14 Oct 2025) EndedAt: 2025-10-14 23:47:59 -0400 (Tue, 14 Oct 2025) EllapsedTime: 25.3 seconds RetCode: 0 Status: OK CheckDir: GraphAlignment.Rcheck Warnings: 0