Package: GraphAT Version: 1.80.0 Command: /Library/Frameworks/R.framework/Resources/bin/R CMD INSTALL GraphAT StartedAt: 2025-10-13 15:22:48 -0400 (Mon, 13 Oct 2025) EndedAt: 2025-10-13 15:23:01 -0400 (Mon, 13 Oct 2025) EllapsedTime: 13.2 seconds RetCode: 0 Status: OK