Package: GeomxTools Version: 3.12.1 Command: /Library/Frameworks/R.framework/Resources/bin/R CMD build --keep-empty-dirs --no-resave-data GeomxTools StartedAt: 2025-10-13 19:20:48 -0400 (Mon, 13 Oct 2025) EndedAt: 2025-10-13 19:36:44 -0400 (Mon, 13 Oct 2025) EllapsedTime: 956.4 seconds RetCode: 0 Status: OK PackageFile: GeomxTools_3.12.1.tar.gz PackageFileSize: 17.03 MiB