Package: GeomxTools Version: 3.12.1 Command: /home/biocbuild/R/R/bin/R CMD INSTALL GeomxTools StartedAt: 2025-10-13 20:28:20 -0000 (Mon, 13 Oct 2025) EndedAt: 2025-10-13 20:28:58 -0000 (Mon, 13 Oct 2025) EllapsedTime: 37.9 seconds RetCode: 0 Status: OK