Package: GeomxTools Version: 3.12.1 Command: /Library/Frameworks/R.framework/Resources/bin/R CMD INSTALL GeomxTools StartedAt: 2025-10-13 15:42:54 -0400 (Mon, 13 Oct 2025) EndedAt: 2025-10-13 15:43:25 -0400 (Mon, 13 Oct 2025) EllapsedTime: 30.4 seconds RetCode: 0 Status: OK