Package: GeomxTools Version: 3.12.1 Command: rm -rf GeomxTools.buildbin-libdir && mkdir GeomxTools.buildbin-libdir && /Users/biocbuild/BBS/utils/build-universal.sh GeomxTools_3.12.1.tar.gz /Library/Frameworks/R.framework/Resources/bin/R GeomxTools.buildbin-libdir StartedAt: 2025-10-15 18:41:08 -0400 (Wed, 15 Oct 2025) EndedAt: 2025-10-15 18:41:46 -0400 (Wed, 15 Oct 2025) EllapsedTime: 38.4 seconds RetCode: 0 Status: OK PackageFile: GeomxTools_3.12.1.tgz PackageFileSize: 15.8 MiB