Package: GeoTcgaData Version: 2.8.0 Command: /Library/Frameworks/R.framework/Resources/bin/R CMD INSTALL GeoTcgaData StartedAt: 2025-10-13 15:33:02 -0400 (Mon, 13 Oct 2025) EndedAt: 2025-10-13 15:34:15 -0400 (Mon, 13 Oct 2025) EllapsedTime: 72.9 seconds RetCode: 0 Status: OK