Package: GeoTcgaData Version: 2.8.0 Command: /Library/Frameworks/R.framework/Resources/bin/R CMD build --keep-empty-dirs --no-resave-data GeoTcgaData StartedAt: 2025-10-13 19:20:56 -0400 (Mon, 13 Oct 2025) EndedAt: 2025-10-13 19:23:12 -0400 (Mon, 13 Oct 2025) EllapsedTime: 136.1 seconds RetCode: 0 Status: OK PackageFile: GeoTcgaData_2.8.0.tar.gz PackageFileSize: 3.318 MiB