Package: GeoTcgaData Version: 2.8.0 Command: /home/biocbuild/R/R/bin/R CMD build --keep-empty-dirs --no-resave-data GeoTcgaData StartedAt: 2025-10-14 01:10:50 -0000 (Tue, 14 Oct 2025) EndedAt: 2025-10-14 01:12:18 -0000 (Tue, 14 Oct 2025) EllapsedTime: 88.0 seconds RetCode: 0 Status: OK PackageFile: GeoTcgaData_2.8.0.tar.gz PackageFileSize: 3.319 MiB