Package: GeoTcgaData Version: 2.8.0 Command: /Library/Frameworks/R.framework/Resources/bin/R CMD build --keep-empty-dirs --no-resave-data GeoTcgaData StartedAt: 2025-10-14 01:08:31 -0400 (Tue, 14 Oct 2025) EndedAt: 2025-10-14 01:09:58 -0400 (Tue, 14 Oct 2025) EllapsedTime: 87.6 seconds RetCode: 0 Status: OK PackageFile: GeoTcgaData_2.8.0.tar.gz PackageFileSize: 3.318 MiB