Package: GeoDiff Version: 1.14.0 Command: /home/biocbuild/R/R/bin/R CMD INSTALL GeoDiff StartedAt: 2025-10-13 20:29:03 -0000 (Mon, 13 Oct 2025) EndedAt: 2025-10-13 20:31:22 -0000 (Mon, 13 Oct 2025) EllapsedTime: 138.7 seconds RetCode: 0 Status: OK