Package: GeoDiff Version: 1.14.0 Command: /home/biocbuild/R/R/bin/R CMD build --keep-empty-dirs --no-resave-data GeoDiff StartedAt: 2025-10-14 01:08:12 -0000 (Tue, 14 Oct 2025) EndedAt: 2025-10-14 01:14:24 -0000 (Tue, 14 Oct 2025) EllapsedTime: 372.1 seconds RetCode: 0 Status: OK PackageFile: GeoDiff_1.14.0.tar.gz PackageFileSize: 4.477 MiB