Package: GeoDiff Version: 1.14.0 Command: /Library/Frameworks/R.framework/Resources/bin/R CMD INSTALL GeoDiff StartedAt: 2025-10-13 15:43:32 -0400 (Mon, 13 Oct 2025) EndedAt: 2025-10-13 15:44:52 -0400 (Mon, 13 Oct 2025) EllapsedTime: 80.1 seconds RetCode: 0 Status: OK