Package: GeoDiff Version: 1.14.0 Command: /Library/Frameworks/R.framework/Resources/bin/R CMD build --keep-empty-dirs --no-resave-data GeoDiff StartedAt: 2025-10-14 01:05:42 -0400 (Tue, 14 Oct 2025) EndedAt: 2025-10-14 01:10:02 -0400 (Tue, 14 Oct 2025) EllapsedTime: 259.4 seconds RetCode: 0 Status: OK PackageFile: GeoDiff_1.14.0.tar.gz PackageFileSize: 4.581 MiB