Package: GenomicPlot Version: 1.6.1 Command: /home/biocbuild/R/R/bin/R CMD INSTALL GenomicPlot StartedAt: 2025-10-13 20:58:32 -0000 (Mon, 13 Oct 2025) EndedAt: 2025-10-13 20:59:46 -0000 (Mon, 13 Oct 2025) EllapsedTime: 73.9 seconds RetCode: 0 Status: OK