Package: GenomicInteractionNodes Version: 1.12.0 Command: /home/biocbuild/bbs-3.21-bioc/R/bin/R CMD INSTALL GenomicInteractionNodes StartedAt: 2025-10-15 15:44:39 -0400 (Wed, 15 Oct 2025) EndedAt: 2025-10-15 15:45:13 -0400 (Wed, 15 Oct 2025) EllapsedTime: 34.0 seconds RetCode: 0 Status: OK