Package: GenomicInteractionNodes Version: 1.12.0 Command: /home/biocbuild/R/R/bin/R CMD INSTALL GenomicInteractionNodes StartedAt: 2025-10-13 21:03:16 -0000 (Mon, 13 Oct 2025) EndedAt: 2025-10-13 21:04:04 -0000 (Mon, 13 Oct 2025) EllapsedTime: 47.2 seconds RetCode: 0 Status: OK