Package: GenomicInteractionNodes Version: 1.12.0 Command: /home/biocbuild/R/R/bin/R CMD build --keep-empty-dirs --no-resave-data GenomicInteractionNodes StartedAt: 2025-10-14 01:07:00 -0000 (Tue, 14 Oct 2025) EndedAt: 2025-10-14 01:09:18 -0000 (Tue, 14 Oct 2025) EllapsedTime: 138.0 seconds RetCode: 0 Status: OK PackageFile: GenomicInteractionNodes_1.12.0.tar.gz PackageFileSize: 274.5 KiB