Package: GenomicInteractionNodes Version: 1.12.0 Command: /Library/Frameworks/R.framework/Resources/bin/R CMD build --keep-empty-dirs --no-resave-data GenomicInteractionNodes StartedAt: 2025-10-14 01:01:27 -0400 (Tue, 14 Oct 2025) EndedAt: 2025-10-14 01:03:38 -0400 (Tue, 14 Oct 2025) EllapsedTime: 131.8 seconds RetCode: 0 Status: OK PackageFile: GenomicInteractionNodes_1.12.0.tar.gz PackageFileSize: 248.4 KiB