Package: GenomicFiles Version: 1.44.1 Command: /home/biocbuild/bbs-3.21-bioc/R/bin/R CMD build --keep-empty-dirs --no-resave-data GenomicFiles StartedAt: 2025-10-15 17:40:22 -0400 (Wed, 15 Oct 2025) EndedAt: 2025-10-15 17:41:37 -0400 (Wed, 15 Oct 2025) EllapsedTime: 75.1 seconds RetCode: 0 Status: OK PackageFile: GenomicFiles_1.44.1.tar.gz PackageFileSize: 712.5 KiB