Package: GenomicFiles Version: 1.44.1 Command: /home/biocbuild/R/R/bin/R CMD INSTALL GenomicFiles StartedAt: 2025-10-13 21:12:29 -0000 (Mon, 13 Oct 2025) EndedAt: 2025-10-13 21:13:29 -0000 (Mon, 13 Oct 2025) EllapsedTime: 60.0 seconds RetCode: 0 Status: OK