Package: GenomicFiles Version: 1.44.1 Command: /home/biocbuild/R/R/bin/R CMD build --keep-empty-dirs --no-resave-data GenomicFiles StartedAt: 2025-10-14 01:05:56 -0000 (Tue, 14 Oct 2025) EndedAt: 2025-10-14 01:07:34 -0000 (Tue, 14 Oct 2025) EllapsedTime: 98.0 seconds RetCode: 0 Status: OK PackageFile: GenomicFiles_1.44.1.tar.gz PackageFileSize: 736.6 KiB