Package: GenomicFiles Version: 1.44.1 Command: /Library/Frameworks/R.framework/Resources/bin/R CMD INSTALL GenomicFiles StartedAt: 2025-10-13 18:22:59 -0400 (Mon, 13 Oct 2025) EndedAt: 2025-10-13 18:23:49 -0400 (Mon, 13 Oct 2025) EllapsedTime: 49.1 seconds RetCode: 0 Status: OK