Package: GenomicFiles Version: 1.44.1 Command: rm -rf GenomicFiles.buildbin-libdir && mkdir GenomicFiles.buildbin-libdir && /Users/biocbuild/BBS/utils/build-universal.sh GenomicFiles_1.44.1.tar.gz /Library/Frameworks/R.framework/Resources/bin/R GenomicFiles.buildbin-libdir StartedAt: 2025-10-15 18:39:14 -0400 (Wed, 15 Oct 2025) EndedAt: 2025-10-15 18:40:07 -0400 (Wed, 15 Oct 2025) EllapsedTime: 53.1 seconds RetCode: 0 Status: OK PackageFile: GenomicFiles_1.44.1.tgz PackageFileSize: 1.004 MiB