Package: GenomicFeatures Version: 1.60.0 Command: /Library/Frameworks/R.framework/Resources/bin/R CMD INSTALL GenomicFeatures StartedAt: 2025-10-13 16:07:35 -0400 (Mon, 13 Oct 2025) EndedAt: 2025-10-13 16:08:51 -0400 (Mon, 13 Oct 2025) EllapsedTime: 76.3 seconds RetCode: 0 Status: OK